BEGIN:VCALENDAR
VERSION:2.0
PRODID:-//Tukios.com/
BEGIN:VEVENT
UID:4a64dde4-2b16-4411-a7a3-1d41cb6dbcc2@www.bismarckfuneralhome.com
DTSTAMP:20260424T002030Z
DTSTART:20260426T160000Z
DTEND:20260426T170000Z
SUMMARY:Memorial Service
DESCRIPTION:
URL:https://www.bismarckfuneralhome.com/obituaries/jonathan-white
LOCATION:Bismarck Seventh-day Adventist Church 1109 North 26th Street  
	Bismarck ND 58501
GEO:46.8168689;-100.7514381
END:VEVENT
END:VCALENDAR