BEGIN:VCALENDAR
VERSION:2.0
PRODID:-//Tukios.com/
BEGIN:VEVENT
UID:16f94305-0a93-4974-8508-c841dc69d763@www.bismarckfuneralhome.com
DTSTAMP:20260421T021539Z
DTSTART:20260424T000000Z
DTEND:20260424T010000Z
SUMMARY:Prayer Service
DESCRIPTION:
URL:https://www.bismarckfuneralhome.com/obituaries/tabea-mueller
LOCATION:Bismarck Funeral Home 3723 Lockport St  Bismarck ND 58503
GEO:46.8461931;-100.7739749
END:VEVENT
END:VCALENDAR