BEGIN:VCALENDAR
VERSION:2.0
PRODID:-//Tukios.com/
BEGIN:VEVENT
UID:59c4b6c3-055f-4982-ba58-8cce4859ae19@www.bismarckfuneralhome.com
DTSTAMP:20260421T022111Z
DTSTART:20260423T220000Z
DTEND:20260424T000000Z
SUMMARY:Visitation
DESCRIPTION:
URL:https://www.bismarckfuneralhome.com/obituaries/tabea-mueller
LOCATION:Bismarck Funeral Home 3723 Lockport St  Bismarck ND 58503
GEO:46.8461931;-100.7739749
END:VEVENT
END:VCALENDAR