BEGIN:VCALENDAR
VERSION:2.0
PRODID:-//Tukios.com/
BEGIN:VEVENT
UID:91e49c6e-fade-4e2f-b99e-ac318aca5630@www.bismarckfuneralhome.com
DTSTAMP:20260421T021916Z
DTSTART:20260424T180000Z
DTEND:20260424T190000Z
SUMMARY:Visitation
DESCRIPTION:
URL:https://www.bismarckfuneralhome.com/obituaries/tabea-mueller
LOCATION:Inspire Family Fellowship 523 N 21st St  Bismarck ND 58501
GEO:46.8103001;-100.7594586
END:VEVENT
END:VCALENDAR