BEGIN:VCALENDAR
VERSION:2.0
PRODID:-//Tukios.com/
BEGIN:VEVENT
UID:1c98345d-d4b2-4ff4-8ae3-5de7131608a1@www.bismarckfuneralhome.com
DTSTAMP:20260421T021357Z
DTSTART:20260424T190000Z
DTEND:20260424T200000Z
SUMMARY:Funeral Service
DESCRIPTION:
URL:https://www.bismarckfuneralhome.com/obituaries/tabea-mueller
LOCATION:Inspire Family Fellowship 523 N 21st St  Bismarck ND 58501
GEO:46.8103001;-100.7594586
END:VEVENT
END:VCALENDAR